BEGIN:VCALENDAR
VERSION:2.0
PRODID:-//Go Icon - ECPv6.15.18//NONSGML v1.0//EN
CALSCALE:GREGORIAN
METHOD:PUBLISH
X-WR-CALNAME:Go Icon
X-ORIGINAL-URL:https://goicon.com
X-WR-CALDESC:Events for Go Icon
REFRESH-INTERVAL;VALUE=DURATION:PT1H
X-Robots-Tag:noindex
X-PUBLISHED-TTL:PT1H
BEGIN:VTIMEZONE
TZID:UTC
BEGIN:STANDARD
TZOFFSETFROM:+0000
TZOFFSETTO:+0000
TZNAME:UTC
DTSTART:20220101T000000
END:STANDARD
END:VTIMEZONE
BEGIN:VTIMEZONE
TZID:America/New_York
BEGIN:DAYLIGHT
TZOFFSETFROM:-0500
TZOFFSETTO:-0400
TZNAME:EDT
DTSTART:20220313T070000
END:DAYLIGHT
BEGIN:STANDARD
TZOFFSETFROM:-0400
TZOFFSETTO:-0500
TZNAME:EST
DTSTART:20221106T060000
END:STANDARD
BEGIN:DAYLIGHT
TZOFFSETFROM:-0500
TZOFFSETTO:-0400
TZNAME:EDT
DTSTART:20230312T070000
END:DAYLIGHT
BEGIN:STANDARD
TZOFFSETFROM:-0400
TZOFFSETTO:-0500
TZNAME:EST
DTSTART:20231105T060000
END:STANDARD
BEGIN:DAYLIGHT
TZOFFSETFROM:-0500
TZOFFSETTO:-0400
TZNAME:EDT
DTSTART:20240310T070000
END:DAYLIGHT
BEGIN:STANDARD
TZOFFSETFROM:-0400
TZOFFSETTO:-0500
TZNAME:EST
DTSTART:20241103T060000
END:STANDARD
END:VTIMEZONE
BEGIN:VEVENT
DTSTART;VALUE=DATE:20250323
DTEND;VALUE=DATE:20250326
DTSTAMP:20260423T113240
CREATED:20250303T231944Z
LAST-MODIFIED:20250303T231944Z
UID:6547-1742688000-1742947199@goicon.com
SUMMARY:Senior Living 100
DESCRIPTION:Michele Saunders will be attending.
URL:https://goicon.com/event/senior-living-100/
END:VEVENT
BEGIN:VEVENT
DTSTART;VALUE=DATE:20250318
DTEND;VALUE=DATE:20250319
DTSTAMP:20260423T113240
CREATED:20250303T232114Z
LAST-MODIFIED:20250303T232114Z
UID:6550-1742256000-1742342399@goicon.com
SUMMARY:MHS Assembly
DESCRIPTION:Ryan Galea will be speaking.
URL:https://goicon.com/event/mhs-assembly/
END:VEVENT
BEGIN:VEVENT
DTSTART;TZID=UTC:20230820T080000
DTEND;TZID=UTC:20230822T170000
DTSTAMP:20260423T113240
CREATED:20230714T165939Z
LAST-MODIFIED:20230714T165939Z
UID:4934-1692518400-1692723600@goicon.com
SUMMARY:HEALTHTAC West
DESCRIPTION:Zaid Al-Hayderi\, VP of Solutions Engineering will be attending!
URL:https://goicon.com/event/healthtac-west/
LOCATION:San Antonio\, Texas
END:VEVENT
BEGIN:VEVENT
DTSTART;TZID=UTC:20230815T080000
DTEND;TZID=UTC:20230816T170000
DTSTAMP:20260423T113240
CREATED:20230714T165609Z
LAST-MODIFIED:20230714T165619Z
UID:4930-1692086400-1692205200@goicon.com
SUMMARY:Interface Seniors Housing Southeast
DESCRIPTION:Michele Saunders\, VP of Growth and Strategy will be attending.
URL:https://goicon.com/event/interface-seniors-housing-southeast/
LOCATION:Westin\, Buckhead\, Atlanta
CATEGORIES:Expo
ATTACH;FMTTYPE=image/png:https://goicon.com/wp-content/uploads/2023/07/Screenshot-2023-07-14-at-11.55.23-AM.png
END:VEVENT
BEGIN:VEVENT
DTSTART;TZID=UTC:20230717T080000
DTEND;TZID=UTC:20230719T170000
DTSTAMP:20260423T113240
CREATED:20230703T152903Z
LAST-MODIFIED:20230703T152903Z
UID:4910-1689580800-1689786000@goicon.com
SUMMARY:LeadingAge Florida
DESCRIPTION:Icon will be at Booth #820! We would love to meet you.
URL:https://goicon.com/event/leadingage-florida/
CATEGORIES:Expo
ATTACH;FMTTYPE=image/png:https://goicon.com/wp-content/uploads/2023/07/logo.png
END:VEVENT
BEGIN:VEVENT
DTSTART;VALUE=DATE:20230625
DTEND;VALUE=DATE:20230629
DTSTAMP:20260423T113240
CREATED:20230317T180816Z
LAST-MODIFIED:20230317T180816Z
UID:4725-1687651200-1687996799@goicon.com
SUMMARY:Florida Senior Living Association Event
DESCRIPTION:See you there!
URL:https://goicon.com/event/florida-senior-living-association-event/
LOCATION:The Boca Raton
ATTACH;FMTTYPE=image/png:https://goicon.com/wp-content/uploads/2023/03/FSLA-Event.png
END:VEVENT
BEGIN:VEVENT
DTSTART;VALUE=DATE:20230522
DTEND;VALUE=DATE:20230525
DTSTAMP:20260423T113240
CREATED:20230227T203114Z
LAST-MODIFIED:20230227T203114Z
UID:4612-1684713600-1684972799@goicon.com
SUMMARY:LeadingAge NY
DESCRIPTION:See you there!
URL:https://goicon.com/event/leadingage-ny/
CATEGORIES:Expo
ATTACH;FMTTYPE=image/jpeg:https://goicon.com/wp-content/uploads/2023/02/LeadingAge-NY-Event-Image.jpeg
END:VEVENT
BEGIN:VEVENT
DTSTART;VALUE=DATE:20230508
DTEND;VALUE=DATE:20230511
DTSTAMP:20260423T113240
CREATED:20230317T180422Z
LAST-MODIFIED:20230317T180845Z
UID:4722-1683504000-1683763199@goicon.com
SUMMARY:LeadingAge GA
DESCRIPTION:See you there!
URL:https://goicon.com/event/leadingage-ga/
LOCATION:The Westin Hotel\, 801 Pine Street\, Chattanooga\, TN
CATEGORIES:Expo
ATTACH;FMTTYPE=image/png:https://goicon.com/wp-content/uploads/2023/03/Screenshot-2023-03-17-at-1.03.31-PM-2.png
END:VEVENT
BEGIN:VEVENT
DTSTART;VALUE=DATE:20230501
DTEND;VALUE=DATE:20230504
DTSTAMP:20260423T113240
CREATED:20230227T203000Z
LAST-MODIFIED:20230317T175956Z
UID:4611-1682899200-1683158399@goicon.com
SUMMARY:LeadingAge CA
DESCRIPTION:Icon will be at booth #224! We hope to see you there!
URL:https://goicon.com/event/leadingage-ca/
CATEGORIES:Expo
ATTACH;FMTTYPE=image/png:https://goicon.com/wp-content/uploads/2023/02/LeadingAge-CA.png
END:VEVENT
BEGIN:VEVENT
DTSTART;VALUE=DATE:20230430
DTEND;VALUE=DATE:20230504
DTSTAMP:20260423T113240
CREATED:20230227T202623Z
LAST-MODIFIED:20230227T202623Z
UID:4608-1682812800-1683158399@goicon.com
SUMMARY:NAAP Annual Conference
DESCRIPTION:See you there!
URL:https://goicon.com/event/naap-annual-conference/
LOCATION:Peppermill Resort\, 2707 S Virginia St\, Reno\, NV\, 89502\, United States
CATEGORIES:Expo
ATTACH;FMTTYPE=image/png:https://goicon.com/wp-content/uploads/2023/02/Screenshot-2023-02-27-at-1.12.57-PM.png
END:VEVENT
BEGIN:VEVENT
DTSTART;TZID=America/New_York:20230418T080000
DTEND;TZID=America/New_York:20230420T170000
DTSTAMP:20260423T113240
CREATED:20230227T202234Z
LAST-MODIFIED:20230317T175736Z
UID:4605-1681804800-1682010000@goicon.com
SUMMARY:Pennsylvania Assisted Living Association Spring Conference
DESCRIPTION:Icon will be booth #9! We hope to see you there!
URL:https://goicon.com/event/pennsylvania-assisted-living-association-spring-conference/
LOCATION:Lancasted Wyndham\, 2300 Lincoln Highway East\, Lancaster\, PA\, 17602\, United States
CATEGORIES:Expo
ATTACH;FMTTYPE=image/jpeg:https://goicon.com/wp-content/uploads/2023/02/PALA-Event-Image.jpeg
END:VEVENT
BEGIN:VEVENT
DTSTART;TZID=UTC:20230405T080000
DTEND;TZID=UTC:20230407T170000
DTSTAMP:20260423T113240
CREATED:20230227T201612Z
LAST-MODIFIED:20230317T175549Z
UID:4602-1680681600-1680886800@goicon.com
SUMMARY:Texas Assisted Living Association Conference
DESCRIPTION:Icon will be booth #207. We hope to see you there!
URL:https://goicon.com/event/texas-assisted-living-association-conference/
LOCATION:Kalahari Resort\, 3001 Kalahari Blvd.\, Round Rock\, TX\, 78665\, United States
CATEGORIES:Expo
ATTACH;FMTTYPE=image/jpeg:https://goicon.com/wp-content/uploads/2023/02/TALA-Event-Image-1.jpeg
END:VEVENT
BEGIN:VEVENT
DTSTART;TZID=UTC:20230328T120000
DTEND;TZID=UTC:20230328T123000
DTSTAMP:20260423T113240
CREATED:20230317T174440Z
LAST-MODIFIED:20230317T175622Z
UID:4714-1680004800-1680006600@goicon.com
SUMMARY:Webinar: How to Utilize Icon’s Form Builder to Transform Your Community’s Daily Workflows
DESCRIPTION:Description:  \nHow does your community currently collect information from residents? Form Builder from Icon makes it seamless! Join us to learn about easily creating\, completing\, and receiving forms with Icon Community Engagement. Attendees will learn best practices for implementing forms\, how to set up forms\, resident experience when completing forms\, and staff experience when receiving completed forms. \nKey Takeaways:  \n\nImplementing Forms Best Practices\nResident Experience when completing a form\nStaff Experience when receiving a completed form\nHow to setup Forms\n\nRegister Here: https://goicon.zoom.us/webinar/register/WN_kamdMrJuTKKrqofCdsMKog
URL:https://goicon.com/event/how-to-utilize-icons-form-builder-to-transform-your-communitys-daily-workflows/
LOCATION:Online
CATEGORIES:Webinar
ATTACH;FMTTYPE=image/png:https://goicon.com/wp-content/uploads/2023/03/Icon-Coffee-Break-3-March.png
END:VEVENT
BEGIN:VEVENT
DTSTART;TZID=UTC:20230327T120000
DTEND;TZID=UTC:20230327T123000
DTSTAMP:20260423T113240
CREATED:20230317T174306Z
LAST-MODIFIED:20230317T175641Z
UID:4712-1679918400-1679920200@goicon.com
SUMMARY:Webinar: Resident Technology Packages: How to Build Them and Winning Strategies to Market Them
DESCRIPTION:Description: As the demand for senior living communities continues to rise\, it’s important for facilities to offer the latest technology to their residents. If your community doesn’t have the budget to invest in technology\, consider creating resident technology packages that can be sold separately. By building and selling resident technology packages\, senior living communities can provide their residents with access to the tools and resources they need to stay connected and engaged. This presentation will walk through how to build and sell resident technology packages in your senior living community. \nTakeaways: \n\n How to Identify your target audience\n How to choose the right technology\n How to build customizable packages\n How to price your packages competitively\n How to promote your packages\n\n  \nRegister Here: https://goicon.zoom.us/webinar/register/WN_N-UF4pPlQJ2jwuQIjE6FHA
URL:https://goicon.com/event/resident-technology-packages-how-to-build-them-and-winning-strategies-to-market-them/
LOCATION:Online
CATEGORIES:Webinar
ATTACH;FMTTYPE=image/png:https://goicon.com/wp-content/uploads/2023/03/March-Thought-Leadership-Webinar-Social-.png
END:VEVENT
BEGIN:VEVENT
DTSTART;VALUE=DATE:20230327
DTEND;VALUE=DATE:20230330
DTSTAMP:20260423T113240
CREATED:20230227T200624Z
LAST-MODIFIED:20230317T175328Z
UID:4595-1679875200-1680134399@goicon.com
SUMMARY:Together We Care
DESCRIPTION:Icon will be at Booth #630! We look forward to meeting you there. #TWC2023
URL:https://goicon.com/event/together-we-care/
LOCATION:Toronto Congress Center\, 650 Dixon Road\, Etobicoke\, Ontario\, Canada
CATEGORIES:Expo
ATTACH;FMTTYPE=image/png:https://goicon.com/wp-content/uploads/2023/02/Together-We-Care-Event-Image-1.png
END:VEVENT
BEGIN:VEVENT
DTSTART;TZID=UTC:20230326T180000
DTEND;TZID=UTC:20230329T153000
DTSTAMP:20260423T113240
CREATED:20230227T201308Z
LAST-MODIFIED:20230317T175003Z
UID:4598-1679853600-1680103800@goicon.com
SUMMARY:On Aging 2023
DESCRIPTION:Icon is excited to be attending OnAging 2023! We will be at Booth #302 and are proud to share our very own Ryan Galea will be hosting an educational session on Wednesday\, March 29th at 10:15am about Boosting Resident Engagement.
URL:https://goicon.com/event/on-aging-2023/
LOCATION:Hyatt Regency Atlanta\, 265 Peachtree St NE\, Atlanta\, Georgia\, United States
CATEGORIES:Expo
ATTACH;FMTTYPE=image/jpeg:https://goicon.com/wp-content/uploads/2023/02/On-Aging-Event-Image-1.jpeg
END:VEVENT
BEGIN:VEVENT
DTSTART;TZID=America/New_York:20230313T120000
DTEND;TZID=America/New_York:20230315T160000
DTSTAMP:20260423T113240
CREATED:20230222T171700Z
LAST-MODIFIED:20230222T171700Z
UID:4555-1678708800-1678896000@goicon.com
SUMMARY:Virginia Assisted Living 2023 Spring Conference
DESCRIPTION:Icon will be at VALA in March! We will have a booth\, so make sure to stop by if you are at the event. \nThe Virginia Assisted Living Annual Conference is hosted by the Virginia Assisted Living Association (VALA) and brings together assisted living professionals from all across Virginia. This conference provides educational opportunities on regulatory updates\, industry best practices\, and new programs and procedures to help assisted living providers better care for the residents they serve. The conference also provides networking opportunities that allow providers to meet industry leaders and advocates. CEUs are offered for educational opportunities.
URL:https://goicon.com/event/virginia-assisted-living-2023-spring-conference/
LOCATION:The Hotel Roanoke & Conference Center\, 110 Shenandoah Ave NW\, Roanoke\, 24106\, United States
CATEGORIES:Expo
ATTACH;FMTTYPE=image/jpeg:https://goicon.com/wp-content/uploads/2023/02/320453052_819641459099350_4039658990034855364_n.jpeg
END:VEVENT
BEGIN:VEVENT
DTSTART;VALUE=DATE:20230307
DTEND;VALUE=DATE:20230309
DTSTAMP:20260423T113240
CREATED:20230222T170416Z
LAST-MODIFIED:20230222T170416Z
UID:4546-1678147200-1678319999@goicon.com
SUMMARY:LeadingAge Illinois Annual Meeting & Expo
DESCRIPTION:Icon will be at LeadingAge IL in March! We are proud to share that our CEO\, Ryan Galea\, will be speaking at LeadingAge IL – Wednesday\, March 8 1:30 PM – 2:30 PM in Room 16F  – about How Ohio Living Westminster-Thurber Drove Resident Engagement. The rest of the Icon team will be at Booth #908\, so make sure to stop by – we’d love to see you!
URL:https://goicon.com/event/leadingage-illinois-annual-meeting-expo/
LOCATION:Renaissance Schaumburg Convention Center\, 1551 Thoreau Dr N\, Schaumburg\, 60173\, United States
CATEGORIES:Expo
ATTACH;FMTTYPE=image/png:https://goicon.com/wp-content/uploads/2023/02/Screen-Shot-2023-02-22-at-11.00.39-AM-e1677085296879.png
END:VEVENT
END:VCALENDAR