BEGIN:VCALENDAR
VERSION:2.0
PRODID:-//Go Icon - ECPv6.15.18//NONSGML v1.0//EN
CALSCALE:GREGORIAN
METHOD:PUBLISH
X-ORIGINAL-URL:https://goicon.com
X-WR-CALDESC:Events for Go Icon
REFRESH-INTERVAL;VALUE=DURATION:PT1H
X-Robots-Tag:noindex
X-PUBLISHED-TTL:PT1H
BEGIN:VTIMEZONE
TZID:UTC
BEGIN:STANDARD
TZOFFSETFROM:+0000
TZOFFSETTO:+0000
TZNAME:UTC
DTSTART:20240101T000000
END:STANDARD
END:VTIMEZONE
BEGIN:VEVENT
DTSTART;VALUE=DATE:20250330
DTEND;VALUE=DATE:20250403
DTSTAMP:20260419T180147
CREATED:20250303T232039Z
LAST-MODIFIED:20250303T232039Z
UID:6548-1743292800-1743638399@goicon.com
SUMMARY:AJAS 2025
DESCRIPTION:Michele Saunders and Julie Bringas will be attending.
URL:https://goicon.com/event/ajas-2025/
END:VEVENT
END:VCALENDAR